BEGIN:VCALENDAR
VERSION:2.0
PRODID:-//Site Internet de Saint-Jean-Pla-de-Corts - ECPv6.15.20//NONSGML v1.0//EN
CALSCALE:GREGORIAN
METHOD:PUBLISH
X-WR-CALNAME:Site Internet de Saint-Jean-Pla-de-Corts
X-ORIGINAL-URL:https://stjeanpladecorts.fr
X-WR-CALDESC:Évènements pour Site Internet de Saint-Jean-Pla-de-Corts
REFRESH-INTERVAL;VALUE=DURATION:PT1H
X-Robots-Tag:noindex
X-PUBLISHED-TTL:PT1H
BEGIN:VTIMEZONE
TZID:Europe/Paris
BEGIN:DAYLIGHT
TZOFFSETFROM:+0100
TZOFFSETTO:+0200
TZNAME:CEST
DTSTART:20250330T010000
END:DAYLIGHT
BEGIN:STANDARD
TZOFFSETFROM:+0200
TZOFFSETTO:+0100
TZNAME:CET
DTSTART:20251026T010000
END:STANDARD
BEGIN:DAYLIGHT
TZOFFSETFROM:+0100
TZOFFSETTO:+0200
TZNAME:CEST
DTSTART:20260329T010000
END:DAYLIGHT
BEGIN:STANDARD
TZOFFSETFROM:+0200
TZOFFSETTO:+0100
TZNAME:CET
DTSTART:20261025T010000
END:STANDARD
BEGIN:DAYLIGHT
TZOFFSETFROM:+0100
TZOFFSETTO:+0200
TZNAME:CEST
DTSTART:20270328T010000
END:DAYLIGHT
BEGIN:STANDARD
TZOFFSETFROM:+0200
TZOFFSETTO:+0100
TZNAME:CET
DTSTART:20271031T010000
END:STANDARD
END:VTIMEZONE
BEGIN:VEVENT
DTSTART;TZID=Europe/Paris:20260426T170000
DTEND;TZID=Europe/Paris:20260426T170000
DTSTAMP:20260426T012220
CREATED:20260410T133009Z
LAST-MODIFIED:20260410T133009Z
UID:2721-1777222800-1777222800@stjeanpladecorts.fr
SUMMARY:CONCERT : BEETHOVEN\, SCHUBERT\, BACH...
DESCRIPTION:Le dimanche 26 avril à 17 heures en l’église St Jean Baptiste concert de musique classique avec Natacha TRIADOU (violon)\, suivi d’un apéritif au centre socio-culturel. \nPlus d’informations :\nmaryse.orchestrecatalogne@gmail.com\n06 18 12 33 84 \nTarifs : 15€ / 12€ – gratuit pour les -18 ans.
URL:https://stjeanpladecorts.fr/evenement/concert-beethoven-schubert-bach/
CATEGORIES:Concert
ATTACH;FMTTYPE=image/jpeg:https://stjeanpladecorts.fr/wp-content/uploads/2026/04/concert.jpg
END:VEVENT
END:VCALENDAR