BEGIN:VCALENDAR
VERSION:2.0
PRODID:-//Site Internet de Saint-Jean-Pla-de-Corts - ECPv6.15.20//NONSGML v1.0//EN
CALSCALE:GREGORIAN
METHOD:PUBLISH
X-WR-CALNAME:Site Internet de Saint-Jean-Pla-de-Corts
X-ORIGINAL-URL:https://stjeanpladecorts.fr
X-WR-CALDESC:Évènements pour Site Internet de Saint-Jean-Pla-de-Corts
REFRESH-INTERVAL;VALUE=DURATION:PT1H
X-Robots-Tag:noindex
X-PUBLISHED-TTL:PT1H
BEGIN:VTIMEZONE
TZID:Europe/Paris
BEGIN:DAYLIGHT
TZOFFSETFROM:+0100
TZOFFSETTO:+0200
TZNAME:CEST
DTSTART:20250330T010000
END:DAYLIGHT
BEGIN:STANDARD
TZOFFSETFROM:+0200
TZOFFSETTO:+0100
TZNAME:CET
DTSTART:20251026T010000
END:STANDARD
BEGIN:DAYLIGHT
TZOFFSETFROM:+0100
TZOFFSETTO:+0200
TZNAME:CEST
DTSTART:20260329T010000
END:DAYLIGHT
BEGIN:STANDARD
TZOFFSETFROM:+0200
TZOFFSETTO:+0100
TZNAME:CET
DTSTART:20261025T010000
END:STANDARD
BEGIN:DAYLIGHT
TZOFFSETFROM:+0100
TZOFFSETTO:+0200
TZNAME:CEST
DTSTART:20270328T010000
END:DAYLIGHT
BEGIN:STANDARD
TZOFFSETFROM:+0200
TZOFFSETTO:+0100
TZNAME:CET
DTSTART:20271031T010000
END:STANDARD
END:VTIMEZONE
BEGIN:VEVENT
DTSTART;TZID=Europe/Paris:20260523T103000
DTEND;TZID=Europe/Paris:20260523T170000
DTSTAMP:20260423T083112
CREATED:20260415T120037Z
LAST-MODIFIED:20260415T120037Z
UID:2751-1779532200-1779555600@stjeanpladecorts.fr
SUMMARY:A.G. DE LA SOCIÉTÉ DE CHASSE
DESCRIPTION:Assemblée générale de la société de chasse de St-Jean-Pla-de-Corts le 23 mai 2026 à 10h30 dans la Maison de la chasse\, chemin du moulin à St Jean.
URL:https://stjeanpladecorts.fr/evenement/a-g-de-la-societe-de-chasse/
LOCATION:Maison de la Chasse\, Chemin du Moulin\, St Jean Pla de Corts\, 66490\, France
CATEGORIES:Association,Cinéma
END:VEVENT
END:VCALENDAR