BEGIN:VCALENDAR
VERSION:2.0
PRODID:-//Site Internet de Saint-Jean-Pla-de-Corts - ECPv6.15.20//NONSGML v1.0//EN
CALSCALE:GREGORIAN
METHOD:PUBLISH
X-ORIGINAL-URL:https://stjeanpladecorts.fr
X-WR-CALDESC:Évènements pour Site Internet de Saint-Jean-Pla-de-Corts
REFRESH-INTERVAL;VALUE=DURATION:PT1H
X-Robots-Tag:noindex
X-PUBLISHED-TTL:PT1H
BEGIN:VTIMEZONE
TZID:Europe/Paris
BEGIN:DAYLIGHT
TZOFFSETFROM:+0100
TZOFFSETTO:+0200
TZNAME:CEST
DTSTART:20240331T010000
END:DAYLIGHT
BEGIN:STANDARD
TZOFFSETFROM:+0200
TZOFFSETTO:+0100
TZNAME:CET
DTSTART:20241027T010000
END:STANDARD
BEGIN:DAYLIGHT
TZOFFSETFROM:+0100
TZOFFSETTO:+0200
TZNAME:CEST
DTSTART:20250330T010000
END:DAYLIGHT
BEGIN:STANDARD
TZOFFSETFROM:+0200
TZOFFSETTO:+0100
TZNAME:CET
DTSTART:20251026T010000
END:STANDARD
BEGIN:DAYLIGHT
TZOFFSETFROM:+0100
TZOFFSETTO:+0200
TZNAME:CEST
DTSTART:20260329T010000
END:DAYLIGHT
BEGIN:STANDARD
TZOFFSETFROM:+0200
TZOFFSETTO:+0100
TZNAME:CET
DTSTART:20261025T010000
END:STANDARD
END:VTIMEZONE
BEGIN:VEVENT
DTSTART;TZID=Europe/Paris:20250518T100000
DTEND;TZID=Europe/Paris:20250518T100000
DTSTAMP:20260423T035508
CREATED:20250512T104131Z
LAST-MODIFIED:20250512T104131Z
UID:2152-1747562400-1747562400@stjeanpladecorts.fr
SUMMARY:CROSS DES ÉCOLES
DESCRIPTION:33e Cross école élémentaire\nPour les classes du CP au CM2\nDimanche 18 mai 2025\ndébut des courses : 10 h 00 \nRécompenses pour tous\nRDV au Poste de secours du lac de baignade à Saint Jean Pla de Corts \nCross de l’école organisé par les commissions municipales Ecole et Sports
URL:https://stjeanpladecorts.fr/evenement/cross-des-ecoles-3/
LOCATION:Plan d’eau\, Route du Mas Chambon\, St Jean pla de Corts\, 66490\, France
CATEGORIES:Ecoles,Événements
ATTACH;FMTTYPE=image/jpeg:https://stjeanpladecorts.fr/wp-content/uploads/2025/05/cross-ecole.jpg
END:VEVENT
END:VCALENDAR