BEGIN:VCALENDAR
VERSION:2.0
PRODID:-//Site Internet de Saint-Jean-Pla-de-Corts - ECPv6.15.20//NONSGML v1.0//EN
CALSCALE:GREGORIAN
METHOD:PUBLISH
X-WR-CALNAME:Site Internet de Saint-Jean-Pla-de-Corts
X-ORIGINAL-URL:https://stjeanpladecorts.fr
X-WR-CALDESC:Évènements pour Site Internet de Saint-Jean-Pla-de-Corts
REFRESH-INTERVAL;VALUE=DURATION:PT1H
X-Robots-Tag:noindex
X-PUBLISHED-TTL:PT1H
BEGIN:VTIMEZONE
TZID:Europe/Paris
BEGIN:DAYLIGHT
TZOFFSETFROM:+0100
TZOFFSETTO:+0200
TZNAME:CEST
DTSTART:20210328T010000
END:DAYLIGHT
BEGIN:STANDARD
TZOFFSETFROM:+0200
TZOFFSETTO:+0100
TZNAME:CET
DTSTART:20211031T010000
END:STANDARD
BEGIN:DAYLIGHT
TZOFFSETFROM:+0100
TZOFFSETTO:+0200
TZNAME:CEST
DTSTART:20220327T010000
END:DAYLIGHT
BEGIN:STANDARD
TZOFFSETFROM:+0200
TZOFFSETTO:+0100
TZNAME:CET
DTSTART:20221030T010000
END:STANDARD
BEGIN:DAYLIGHT
TZOFFSETFROM:+0100
TZOFFSETTO:+0200
TZNAME:CEST
DTSTART:20230326T010000
END:DAYLIGHT
BEGIN:STANDARD
TZOFFSETFROM:+0200
TZOFFSETTO:+0100
TZNAME:CET
DTSTART:20231029T010000
END:STANDARD
END:VTIMEZONE
BEGIN:VEVENT
DTSTART;TZID=Europe/Paris:20221213T100000
DTEND;TZID=Europe/Paris:20221213T100000
DTSTAMP:20260424T185337
CREATED:20221201T102515Z
LAST-MODIFIED:20221201T102515Z
UID:1010-1670925600-1670925600@stjeanpladecorts.fr
SUMMARY:NOËL DES ÉCOLES
DESCRIPTION:Dans le cadre du Noël des écoles\, nous vous convions à assister à la chorale des classes de maternelle C.P. et CE1 square Guy Malé le mardi 13 décembre à 10h.\nVENEZ NOMBREUX !
URL:https://stjeanpladecorts.fr/evenement/noel-des-ecoles/
LOCATION:Square Guy Malé\, Place Guy Malé\, Saint-Jean-Pla-de-Corts\, 66490\, France
CATEGORIES:Ecoles
ATTACH;FMTTYPE=image/jpeg:https://stjeanpladecorts.fr/wp-content/uploads/2022/12/chorale-noel-site.jpg
END:VEVENT
END:VCALENDAR