BEGIN:VCALENDAR
VERSION:2.0
PRODID:-//Site Internet de Saint-Jean-Pla-de-Corts - ECPv6.15.20//NONSGML v1.0//EN
CALSCALE:GREGORIAN
METHOD:PUBLISH
X-ORIGINAL-URL:https://stjeanpladecorts.fr
X-WR-CALDESC:Évènements pour Site Internet de Saint-Jean-Pla-de-Corts
REFRESH-INTERVAL;VALUE=DURATION:PT1H
X-Robots-Tag:noindex
X-PUBLISHED-TTL:PT1H
BEGIN:VTIMEZONE
TZID:Europe/Paris
BEGIN:DAYLIGHT
TZOFFSETFROM:+0100
TZOFFSETTO:+0200
TZNAME:CEST
DTSTART:20240331T010000
END:DAYLIGHT
BEGIN:STANDARD
TZOFFSETFROM:+0200
TZOFFSETTO:+0100
TZNAME:CET
DTSTART:20241027T010000
END:STANDARD
BEGIN:DAYLIGHT
TZOFFSETFROM:+0100
TZOFFSETTO:+0200
TZNAME:CEST
DTSTART:20250330T010000
END:DAYLIGHT
BEGIN:STANDARD
TZOFFSETFROM:+0200
TZOFFSETTO:+0100
TZNAME:CET
DTSTART:20251026T010000
END:STANDARD
BEGIN:DAYLIGHT
TZOFFSETFROM:+0100
TZOFFSETTO:+0200
TZNAME:CEST
DTSTART:20260329T010000
END:DAYLIGHT
BEGIN:STANDARD
TZOFFSETFROM:+0200
TZOFFSETTO:+0100
TZNAME:CET
DTSTART:20261025T010000
END:STANDARD
END:VTIMEZONE
BEGIN:VEVENT
DTSTART;TZID=Europe/Paris:20250208T100000
DTEND;TZID=Europe/Paris:20250208T160000
DTSTAMP:20260423T083939
CREATED:20250205T081510Z
LAST-MODIFIED:20250205T081554Z
UID:2026-1739008800-1739030400@stjeanpladecorts.fr
SUMMARY:FORUM LES CHEMINS DE LA RÉUSSITE
DESCRIPTION:La FCPE 66\, en partenariat avec la Chambre de Métiers et de l’Artisanat des P.O.\, la Direction des Services de l’Education Nationale des Pyrénées-Orientales\, le Département 66\, la Région Occitanie\, Ici Roussillon (ex-France bleu) et L’Indépendant\, organise le Samedi 8 Février 2025 sa 4ème édition « LES CHEMINS DE LA RÉUSSITE » à destination des parents\, des élèves et des professeurs le : \nSamedi 8 février 2025 de 10h à 16h\nà la Chambre de Métiers et de l’Artisanat de Rivesaltes \n \nTrois conférences : \n« Parcoursup\, au cœur de l’orientation » (10h30-11h30) \n« L’Apprentissage\, une voie de réussite » (13h30-14h30) \n« Affelnet\, L’orientation des collégiens » (14h30-15h30) \nse dérouleront lors de cette journée pour les parents et leurs enfants. \n  \nUn Forum des Métiers où les élèves pourront découvrir près de 400 métiers différents\, aura lieu dans la salle Canigou dès 10h jusqu’à 16h. De nombreuses filières sont représentées qui demandent des enseignements divers. C’est une réelle ouverture sur des pistes d’orientations possibles et l’occasion de découvrir des parcours différents\, des voies d’accès et des champs du possible divers autour de l’orientation. \nCe forum s’intègre dans le PARCOURS AVENIR mis en place par l’Education Nationale et concerne les élèves de la 4ème à la Terminale. Il a pour objectif d’aider nos enfants à construire un vrai projet d’orientation scolaire et professionnelle\, réfléchi\, choisi et réussi. Cette manifestation sera l’occasion de leur permettre de poser des questions et d’échanger sur différents métiers et formations. \nLe programme en pdf
URL:https://stjeanpladecorts.fr/evenement/forum-les-chemins-de-la-reussite/
CATEGORIES:Ecoles,Événements
ATTACH;FMTTYPE=image/jpeg:https://stjeanpladecorts.fr/wp-content/uploads/2025/02/Affiche-4mes-Chemins-de-la-Reussite-2025.jpg
END:VEVENT
END:VCALENDAR